Workbook
Name Slicer_Apimtis: #N/A
Name Slicer_DATASET_ID: #N/A
Name Slicer_DATASET_ID1: #N/A
Name Slicer_DATASET_ID2: #N/A
Name Slicer_DATASET_ID3: #N/A
Name Slicer_Dr_rusis: #N/A
Name Slicer_Veikla: #N/A
Name Slicer_Veiklos_teritorija: #N/A

Sheet Content
C2: Insurance Activity Results in Lithuania as of January - September, 2026
B4: Code | C4: Report | D4: Periodicity
B5: DSR1 | C5: Concluded insurance contracts, units | D5: Monthly
B6: DSR2 | C6: Insurance contracts in force, units | D6: Monthly
B7: DSR3 | C7: Insurance contracts cancelled, units | D7: Monthly
B8: DSR5 | C8: Insurance premiums, EUR | D8: Monthly
B9: DSR6 | C9: Single premiums, EUR | D9: Monthly
B10: DSR7 | C10: Insurance premiums with periodical payments, EUR | D10: Monthly
B11: DSR8 | C11: Annual premiums under new concluded contracts with the established a periodical payment of premiums, EUR | D11: Monthly
B12: DSR9 | C12: Insurance revenue, Eur | D12: Quarterly
B13: DSR10 | C13: Claims paid for insurance losses, units | D13: Monthly
B14: DSR11 | C14: Payment of the investment component after the expiration of the insurance contract, units | D14: Monthly
B15: DSR12 | C15: Payment of the investment component after termination of the insurance contract, units | D15: Monthly
... B21: DSR19 | C21: Payment of the investment component neither after termination nor at the end of the contract, EUR | D21: Monthly

Sheet Settings

Sheet DSR1
A1: Concluded insurance contracts, units | C1: Sudarytos draudimo sutartys, vnt.
A3: =C3 -> 2026-09-30 | B3: Data_men | C3: 2026-09-30
B5: Per ataskaitinį laikotarpį sudarytos draudimo sutartys, vnt. | D5: Agento_pavadinimas
A6: Business lines / Insurers | B6: Eil. nr. | C6: Draudimo grupės / Draudikai | D6: Allianz Lietuva gyvybės draudimas | E6: Artea Life Insurance | F6: ATRADIUS filialas | G6: Balcia Insurance filialas | H6: Baltijas Apdrosinasanas Nams filialas | I6: BTA Insurance Company filialas | J6: COFACE filialas | K6: Compensa Life VIG filialas | L6: Compensa VIG | M6: ERGO Insurance filialas | N6: ERGO Life Insurance | O6: Gjensidige | P6: If P&C Insurance (publ) filialas | Q6: If P&C Insurance filialas | R6: Lamantinas | S6: Lietuvos draudimas | T6: PZU Lietuva gyvybės draudimas | U6: SEB Life and Pension Baltic filialas | V6: Swedbank Life Insurance filialas | W6: Swedbank P&C Insurance filialas | X6: Vereinigte Hagelversicherung filialas VH Lietuva | Y6: All
A7: =IFERROR(VLOOKUP(C7,'LT-EN'!$A:$B,2,FALSE)," ") -> ALL | B7: 0 | C7: Visos | D7: 10427 | E7: 4372 | F7: 0 | G7: 231719 | H7: 27664 | I7: 1103645 | J7: 226 | K7: 12391 | L7: 867752 | M7: 1319172 | N7: 5011 | O7: 390032 | P7: 0 | Q7: 280219 | R7: 25627 | S7: 2006153 | T7: 3415 | U7: 19666 | V7: 15813 | W7: 862272 | X7: 6878 | Y7: 7192454
A8: =IFERROR(VLOOKUP(C8,'LT-EN'!$A:$B,2,FALSE)," ") -> NON-LIFE INSURANCE | B8: 1 | C8: NE GYVYBĖS DRAUDIMAS | D8: 0 | E8: 0 | F8: 0 | G8: 231719 | H8: 27664 | I8: 1103645 | J8: 226 | K8: 802 | L8: 867752 | M8: 1319172 | N8: 509 | O8: 390032 | P8: 0 | Q8: 280219 | R8: 25627 | S8: 2006153 | T8: 0 | U8: 0 | V8: 0 | W8: 862272 | X8: 6878 | Y8: 7122670
A9: =IFERROR(VLOOKUP(C9,'LT-EN'!$A:$B,2,FALSE)," ") -> 1. Medical expense insurance | B9: 2 | C9: 1. Medicininių išlaidų draudimas | D9: 0 | E9: 0 | F9: 0 | G9: 39827 | H9: 0 | I9: 134954 | J9: 0 | K9: 802 | L9: 56501 | M9: 104091 | N9: 509 | O9: 27226 | P9: 0 | Q9: 20284 | R9: 0 | S9: 91978 | T9: 0 | U9: 0 | V9: 0 | W9: 35833 | X9: 0 | Y9: 512005
A10: =IFERROR(VLOOKUP(C10,'LT-EN'!$A:$B,2,FALSE)," ") -> 1.1. Supplementary voluntary health insurance | B10: 3 | C10: 1.1. Papildomasis savanoriškasis sveikatos draudimas | D10: 0 | E10: 0 | F10: 0 | G10: 0 | H10: 0 | I10: 1035 | J10: 0 | K10: 802 | L10: 1647 | M10: 0 | N10: 509 | O10: 414 | P10: 0 | Q10: 0 | R10: 0 | S10: 14869 | T10: 0 | U10: 0 | V10: 0 | W10: 0 | X10: 0 | Y10: 19276
A11: =IFERROR(VLOOKUP(C11,'LT-EN'!$A:$B,2,FALSE)," ") -> 1.1.1. Policyholders - legal persons | B11: 4 | C11: 1.1.1. Draudėjai - juridiniai asmenys | H11: 0 | I11: 683 | K11: 802 | L11: 1586 | N11: 409 | O11: 382 | Q11: 0 | S11: 1221 | Y11: 5083
A12: =IFERROR(VLOOKUP(C12,'LT-EN'!$A:$B,2,FALSE)," ") -> 1.1.2. Policyholders - natural persons | B12: 5 | C12: 1.1.2. Draudėjai - fiziniai asmenys | H12: 0 | I12: 352 | L12: 61 | N12: 100 | O12: 32 | Q12: 0 | S12: 13648 | Y12: 14193
A13: =IFERROR(VLOOKUP(C13,'LT-EN'!$A:$B,2,FALSE)," ") -> 1.2. Other | B13: 6 | C13: 1.2. Kita | D13: 0 | E13: 0 | F13: 0 | G13: 39827 | H13: 0 | I13: 133919 | J13: 0 | K13: 0 | L13: 54854 | M13: 104091 | N13: 0 | O13: 26812 | P13: 0 | Q13: 20284 | R13: 0 | S13: 77109 | T13: 0 | U13: 0 | V13: 0 | W13: 35833 | X13: 0 | Y13: 492729
A14: =IFERROR(VLOOKUP(C14,'LT-EN'!$A:$B,2,FALSE)," ") -> 1.2.1. Policyholders - legal persons | B14: 7 | C14: 1.2.1. Draudėjai - juridiniai asmenys | G14: 3922 | H14: 0 | I14: 33402 | L14: 458 | M14: 4676 | O14: 3445 | Q14: 1010 | S14: 1465 | W14: 3 | Y14: 48381
A15: =IFERROR(VLOOKUP(C15,'LT-EN'!$A:$B,2,FALSE)," ") -> 1.2.2. Policyholders - natural persons | B15: 8 | C15: 1.2.2. Draudėjai - fiziniai asmenys | G15: 35905 | H15: 0 | I15: 100517 | L15: 54396 | M15: 99415 | O15: 23367 | Q15: 19274 | S15: 75644 | W15: 35830 | Y15: 444348
A16: =IFERROR(VLOOKUP(C16,'LT-EN'!$A:$B,2,FALSE)," ") -> 2. Income protection insurance | B16: 9 | C16: 2. Pajamų apsaugos draudimas | D16: 0 | E16: 0 | F16: 0 | G16: 12985 | H16: 0 | I16: 158617 | J16: 0 | K16: 0 | L16: 99324 | M16: 108073 | N16: 0 | O16: 34364 | P16: 0 | Q16: 32859 | R16: 0 | S16: 231710 | T16: 0 | U16: 0 | V16: 0 | W16: 82539 | X16: 0 | Y16: 760471
A17: =IFERROR(VLOOKUP(C17,'LT-EN'!$A:$B,2,FALSE)," ") -> 2.1. Policyholders - legal persons | B17: 10 | C17: 2.1. Draudėjai - juridiniai asmenys | G17: 1307 | H17: 0 | I17: 37362 | L17: 5874 | M17: 12599 | O17: 5328 | Q17: 14136 | S17: 18633 | U17: 0 | W17: 2 | Y17: 95241
A18: =IFERROR(VLOOKUP(C18,'LT-EN'!$A:$B,2,FALSE)," ") -> 2.2. Policyholders - natural persons | B18: 11 | C18: 2.2. Draudėjai - fiziniai asmenys | G18: 11678 | H18: 0 | I18: 121255 | L18: 93450 | M18: 95474 | O18: 29036 | Q18: 18723 | S18: 213077 | W18: 82537 | Y18: 665230
A19: =IFERROR(VLOOKUP(C19,'LT-EN'!$A:$B,2,FALSE)," ") -> 3. Workers' compensation insurance | B19: 12 | C19: 3. Nelaimingų atsitikimų darbe draudimas | H19: 0 | I19: 0 | L19: 0 | O19: 0 | Q19: 0 | S19: 0 | Y19: 0
A20: =IFERROR(VLOOKUP(C20,'LT-EN'!$A:$B,2,FALSE)," ") -> 4. Motor vehicle liability insurance | B20: 13 | C20: 4. Motorinių transporto priemonių valdytojų civilinės atsakomybės draudimas | D20: 0 | E20: 0 | F20: 0 | G20: 123540 | H20: 27664 | I20: 496060 | J20: 0 | K20: 0 | L20: 434234 | M20: 632399 | N20: 0 | O20: 202510 | P20: 0 | Q20: 139520 | R20: 0 | S20: 776272 | T20: 0 | U20: 0 | V20: 0 | W20: 171075 | X20: 0 | Y20: 3003274
A21: =IFERROR(VLOOKUP(C21,'LT-EN'!$A:$B,2,FALSE)," ") -> 4.1. Liability arising out of the use of motor vehicles operating on the land insurance | B21: 14 | C21: 4.1. Sausumos transporto priemonių valdytojų civilinės atsakomybės draudimas | D21: 0 | E21: 0 | F21: 0 | G21: 123540 | H21: 27664 | I21: 495315 | J21: 0 | K21: 0 | L21: 434234 | M21: 631467 | N21: 0 | O21: 202235 | P21: 0 | Q21: 138735 | R21: 0 | S21: 775434 | T21: 0 | U21: 0 | V21: 0 | W21: 171075 | X21: 0 | Y21: 2999699
A22: =IFERROR(VLOOKUP(C22,'LT-EN'!$A:$B,2,FALSE)," ") -> 4.1.1. Policyholders - legal persons | B22: 15 | C22: 4.1.1. Draudėjai - juridiniai asmenys | G22: 24018 | H22: 2 | I22: 103935 | L22: 71871 | M22: 100871 | O22: 34476 | Q22: 54736 | S22: 173397 | W22: 2847 | Y22: 566153
A23: =IFERROR(VLOOKUP(C23,'LT-EN'!$A:$B,2,FALSE)," ") -> 4.1.2. Policyholders - natural persons | B23: 16 | C23: 4.1.2. Draudėjai - fiziniai asmenys | G23: 99522 | H23: 27662 | I23: 391380 | L23: 362363 | M23: 530596 | O23: 167759 | Q23: 83999 | S23: 602037 | W23: 168228 | Y23: 2433546
A24: =IFERROR(VLOOKUP(C24,'LT-EN'!$A:$B,2,FALSE)," ") -> 4.2. Carrier third party liability (CMR) insurance | B24: 17 | C24: 4.2. Vežėjų civilinės atsakomybės draudimas | H24: 0 | I24: 736 | L24: 0 | M24: 932 | O24: 274 | Q24: 785 | S24: 827 | Y24: 3554
A25: =IFERROR(VLOOKUP(C25,'LT-EN'!$A:$B,2,FALSE)," ") -> 4.3. Liability arising out of use railway rolling stock insurance | B25: 18 | C25: 4.3. Geležinkelių transporto priemonių valdytojų civilinės atsakomybės draudimas | H25: 0 | I25: 9 | L25: 0 | O25: 1 | Q25: 0 | S25: 11 | Y25: 21
A26: =IFERROR(VLOOKUP(C26,'LT-EN'!$A:$B,2,FALSE)," ") -> 5. Other motor insurance | B26: 19 | C26: 5. Kitas transporto priemonių draudimas | D26: 0 | E26: 0 | F26: 0 | G26: 7929 | H26: 0 | I26: 51624 | J26: 0 | K26: 0 | L26: 72953 | M26: 96323 | N26: 0 | O26: 7690 | P26: 0 | Q26: 37365 | R26: 0 | S26: 163042 | T26: 0 | U26: 0 | V26: 0 | W26: 28233 | X26: 0 | Y26: 465159
A27: =IFERROR(VLOOKUP(C27,'LT-EN'!$A:$B,2,FALSE)," ") -> 5.1. Land vehicles other than railway rolling stock insurance | B27: 20 | C27: 5.1. Sausumos transporto priemonių, išskyrus geležinkelio transporto priemones, draudimas | D27: 0 | E27: 0 | F27: 0 | G27: 7929 | H27: 0 | I27: 51616 | J27: 0 | K27: 0 | L27: 72953 | M27: 96322 | N27: 0 | O27: 7690 | P27: 0 | Q27: 37365 | R27: 0 | S27: 163038 | T27: 0 | U27: 0 | V27: 0 | W27: 28233 | X27: 0 | Y27: 465146
A28: =IFERROR(VLOOKUP(C28,'LT-EN'!$A:$B,2,FALSE)," ") -> 5.1.1. Policyholders - legal persons | B28: 21 | C28: 5.1.1. Draudėjai - juridiniai asmenys | G28: 549 | H28: 0 | I28: 13232 | L28: 21990 | M28: 41875 | O28: 3571 | Q28: 16618 | S28: 64518 | W28: 3051 | Y28: 165404
A29: =IFERROR(VLOOKUP(C29,'LT-EN'!$A:$B,2,FALSE)," ") -> 5.1.2. Policyholders - natural persons | B29: 22 | C29: 5.1.2. Draudėjai - fiziniai asmenys | G29: 7380 | H29: 0 | I29: 38384 | L29: 50963 | M29: 54447 | O29: 4119 | Q29: 20747 | S29: 98520 | W29: 25182 | Y29: 299742
A30: =IFERROR(VLOOKUP(C30,'LT-EN'!$A:$B,2,FALSE)," ") -> 5.2. Railway rolling stock insurance | B30: 23 | C30: 5.2. Geležinkelio transporto priemonių draudimas | H30: 0 | I30: 8 | L30: 0 | M30: 1 | O30: 0 | Q30: 0 | S30: 4 | Y30: 13
A31: =IFERROR(VLOOKUP(C31,'LT-EN'!$A:$B,2,FALSE)," ") -> 6. Marine, aviation and transport insurance | B31: 24 | C31: 6. Jūrų, oro ir sausumos transporto priemonių draudimas | D31: 0 | E31: 0 | F31: 0 | G31: 0 | H31: 0 | I31: 937 | J31: 0 | K31: 0 | L31: 239 | M31: 1070 | N31: 0 | O31: 48 | P31: 0 | Q31: 182 | R31: 0 | S31: 444 | T31: 0 | U31: 0 | V31: 0 | W31: 0 | X31: 0 | Y31: 2920
A32: =IFERROR(VLOOKUP(C32,'LT-EN'!$A:$B,2,FALSE)," ") -> 6.1. Liability arising out of use of ships (sea and internal waters) insurance | B32: 25 | C32: 6.1. Laivų (jūrų ir vidaus vandenų) valdytojų civilinės atsakomybės draudimas | H32: 0 | I32: 123 | L32: 0 | O32: 4 | Q32: 0 | S32: 78 | Y32: 205
A33: =IFERROR(VLOOKUP(C33,'LT-EN'!$A:$B,2,FALSE)," ") -> 6.2. Ships (sea and internal waters) insurance | B33: 26 | C33: 6.2. Laivų (jūrų ir vidaus vandenų) draudimas | H33: 0 | I33: 57 | L33: 0 | M33: 61 | O33: 3 | P33: 0 | Q33: 33 | S33: 92 | Y33: 246
A34: =IFERROR(VLOOKUP(C34,'LT-EN'!$A:$B,2,FALSE)," ") -> 6.3. Liability arising out of the use of aircraft insurance | B34: 27 | C34: 6.3. Skraidymo aparatų valdytojų civilinės atsakomybės draudimas | H34: 0 | I34: 446 | L34: 0 | O34: 0 | Q34: 12 | S34: 1 | Y34: 459
A35: =IFERROR(VLOOKUP(C35,'LT-EN'!$A:$B,2,FALSE)," ") -> 6.4. Aircraft insurance | B35: 28 | C35: 6.4. Skraidymo aparatų draudimas | H35: 0 | I35: 45 | L35: 0 | O35: 0 | Q35: 0 | S35: 1 | Y35: 46
A36: =IFERROR(VLOOKUP(C36,'LT-EN'!$A:$B,2,FALSE)," ") -> 6.5. Goods in transit insurance | B36: 29 | C36: 6.5. Vežamų krovinių draudimas | H36: 0 | I36: 266 | L36: 239 | M36: 1009 | O36: 41 | P36: 0 | Q36: 137 | S36: 272 | Y36: 1964
A37: =IFERROR(VLOOKUP(C37,'LT-EN'!$A:$B,2,FALSE)," ") -> 7. Fire and other damage to property insurance | B37: 30 | C37: 7. Draudimas nuo gaisro ir kitos žalos, padarytos turtui | D37: 0 | E37: 0 | F37: 0 | G37: 17082 | H37: 0 | I37: 81230 | J37: 0 | K37: 0 | L37: 72897 | M37: 186733 | N37: 0 | O37: 37193 | P37: 0 | Q37: 31133 | R37: 0 | S37: 524076 | T37: 0 | U37: 0 | V37: 0 | W37: 226851 | X37: 6878 | Y37: 1184073
A38: =IFERROR(VLOOKUP(C38,'LT-EN'!$A:$B,2,FALSE)," ") -> 7.1. Crop insurance | B38: 31 | C38: 7.1. Pasėlių draudimas | H38: 0 | I38: 51 | L38: 9 | O38: 0 | Q38: 0 | S38: 0 | X38: 6878 | Y38: 6938
A39: =IFERROR(VLOOKUP(C39,'LT-EN'!$A:$B,2,FALSE)," ") -> 7.2. Livestock insurance | B39: 32 | C39: 7.2. Gyvūnų draudimas | H39: 0 | I39: 130 | L39: 0 | M39: 450 | O39: 17 | Q39: 0 | S39: 246 | Y39: 843
A40: =IFERROR(VLOOKUP(C40,'LT-EN'!$A:$B,2,FALSE)," ") -> 7.3. Other property insurance | B40: 33 | C40: 7.3. Kitas turto draudimas | D40: 0 | E40: 0 | F40: 0 | G40: 17082 | H40: 0 | I40: 81049 | J40: 0 | K40: 0 | L40: 72888 | M40: 186283 | N40: 0 | O40: 37176 | P40: 0 | Q40: 31133 | R40: 0 | S40: 523830 | T40: 0 | U40: 0 | V40: 0 | W40: 226851 | X40: 0 | Y40: 1176292
A41: =IFERROR(VLOOKUP(C41,'LT-EN'!$A:$B,2,FALSE)," ") -> 7.3.1. Policyholders - legal persons | B41: 34 | C41: 7.3.1. Draudėjai - juridiniai asmenys | G41: 2888 | H41: 0 | I41: 11223 | L41: 7304 | M41: 11551 | O41: 3938 | Q41: 4433 | S41: 10569 | W41: 53 | Y41: 51959
A42: =IFERROR(VLOOKUP(C42,'LT-EN'!$A:$B,2,FALSE)," ") -> 7.3.2. Policyholders - natural persons | B42: 35 | C42: 7.3.2. Draudėjai - fiziniai asmenys | G42: 14194 | H42: 0 | I42: 69826 | L42: 65584 | M42: 174732 | O42: 33238 | Q42: 26700 | S42: 513261 | W42: 226798 | Y42: 1124333
...

Sheet DSR2
A1: Insurance contracts in force, units | C1: Galiojančios draudimo sutartys, vnt.
A3: ='DSR1'!C3 -> 2026-09-30 | B3: Data_men | C3: 2026-09-30
B5: Ataskaitinio laikotarpio pabaigoje galiojančios draudimo sutartys, vnt.
A6: Business lines / Insurers | B6: eil.nr | C6: Draudimo grupės / Draudikai | D6: Allianz Lietuva gyvybės draudimas | E6: Artea Life Insurance | F6: ATRADIUS filialas | G6: Balcia Insurance filialas | H6: Baltijas Apdrosinasanas Nams filialas | I6: BTA Insurance Company filialas | J6: COFACE filialas | K6: Compensa Life VIG filialas | L6: Compensa VIG | M6: ERGO Insurance filialas | N6: ERGO Life Insurance | O6: Gjensidige | P6: If P&C Insurance (publ) filialas | Q6: If P&C Insurance filialas | R6: Lamantinas | S6: Lietuvos draudimas | T6: PZU Lietuva gyvybės draudimas | U6: SEB Life and Pension Baltic filialas | V6: Swedbank Life Insurance filialas | W6: Swedbank P&C Insurance filialas | X6: Vereinigte Hagelversicherung filialas VH Lietuva | Y6: All
A7: =IFERROR(VLOOKUP(C7,'LT-EN'!$A:$B,2,FALSE)," ") -> ALL | B7: 0 | C7: Visos | D7: 76117 | E7: 51156 | F7: 0 | G7: 185358 | H7: 20644 | I7: 751330 | J7: 295 | K7: 153372 | L7: 756692 | M7: 1126628 | N7: 64386 | O7: 380146 | P7: 0 | Q7: 299698 | R7: 3830 | S7: 2062686 | T7: 45489 | U7: 149861 | V7: 206683 | W7: 793229 | X7: 6878 | Y7: 7134478
A8: =IFERROR(VLOOKUP(C8,'LT-EN'!$A:$B,2,FALSE)," ") -> NON-LIFE INSURANCE | B8: 1 | C8: NE GYVYBĖS DRAUDIMAS | D8: 0 | E8: 0 | F8: 0 | G8: 185358 | H8: 20644 | I8: 751330 | J8: 295 | K8: 1042 | L8: 756692 | M8: 1126628 | N8: 553 | O8: 380146 | P8: 0 | Q8: 299698 | R8: 3830 | S8: 2062686 | T8: 0 | U8: 6 | V8: 0 | W8: 793229 | X8: 6878 | Y8: 6389015
A9: =IFERROR(VLOOKUP(C9,'LT-EN'!$A:$B,2,FALSE)," ") -> 1. Medical expense insurance | B9: 2 | C9: 1. Medicininių išlaidų draudimas | D9: 0 | E9: 0 | F9: 0 | G9: 1541 | H9: 0 | I9: 11133 | J9: 0 | K9: 1042 | L9: 3503 | M9: 6999 | N9: 553 | O9: 4277 | P9: 0 | Q9: 976 | R9: 0 | S9: 26068 | T9: 0 | U9: 0 | V9: 0 | W9: 2084 | X9: 0 | Y9: 58176
A10: =IFERROR(VLOOKUP(C10,'LT-EN'!$A:$B,2,FALSE)," ") -> 1.1. Supplementary voluntary health insurance | B10: 3 | C10: 1.1. Papildomasis savanoriškasis sveikatos draudimas | D10: 0 | E10: 0 | F10: 0 | G10: 0 | H10: 0 | I10: 1242 | J10: 0 | K10: 1042 | L10: 1636 | M10: 0 | N10: 553 | O10: 435 | P10: 0 | Q10: 0 | R10: 0 | S10: 20722 | T10: 0 | U10: 0 | V10: 0 | W10: 0 | X10: 0 | Y10: 25630
A11: =IFERROR(VLOOKUP(C11,'LT-EN'!$A:$B,2,FALSE)," ") -> 1.1.1. Policyholders - legal persons | B11: 4 | C11: 1.1.1. Draudėjai - juridiniai asmenys | H11: 0 | I11: 891 | K11: 1042 | L11: 1556 | N11: 392 | O11: 407 | Q11: 0 | S11: 1564 | Y11: 5852
A12: =IFERROR(VLOOKUP(C12,'LT-EN'!$A:$B,2,FALSE)," ") -> 1.1.2. Policyholders - natural persons | B12: 5 | C12: 1.1.2. Draudėjai - fiziniai asmenys | H12: 0 | I12: 351 | L12: 80 | N12: 161 | O12: 28 | Q12: 0 | S12: 19158 | Y12: 19778
A13: =IFERROR(VLOOKUP(C13,'LT-EN'!$A:$B,2,FALSE)," ") -> 1.2. Other | B13: 6 | C13: 1.2. Kita | D13: 0 | E13: 0 | F13: 0 | G13: 1541 | H13: 0 | I13: 9891 | J13: 0 | K13: 0 | L13: 1867 | M13: 6999 | N13: 0 | O13: 3842 | P13: 0 | Q13: 976 | R13: 0 | S13: 5346 | T13: 0 | U13: 0 | V13: 0 | W13: 2084 | X13: 0 | Y13: 32546
A14: =IFERROR(VLOOKUP(C14,'LT-EN'!$A:$B,2,FALSE)," ") -> 1.2.1. Policyholders - legal persons | B14: 7 | C14: 1.2.1. Draudėjai - juridiniai asmenys | G14: 253 | H14: 0 | I14: 2197 | L14: 106 | M14: 857 | O14: 215 | Q14: 256 | S14: 783 | W14: 0 | Y14: 4667
A15: =IFERROR(VLOOKUP(C15,'LT-EN'!$A:$B,2,FALSE)," ") -> 1.2.2. Policyholders - natural persons | B15: 8 | C15: 1.2.2. Draudėjai - fiziniai asmenys | G15: 1288 | H15: 0 | I15: 7694 | L15: 1761 | M15: 6142 | O15: 3627 | Q15: 720 | S15: 4563 | W15: 2084 | Y15: 27879
A16: =IFERROR(VLOOKUP(C16,'LT-EN'!$A:$B,2,FALSE)," ") -> 2. Income protection insurance | B16: 9 | C16: 2. Pajamų apsaugos draudimas | D16: 0 | E16: 0 | F16: 0 | G16: 16423 | H16: 0 | I16: 86334 | J16: 0 | K16: 0 | L16: 78570 | M16: 128107 | N16: 0 | O16: 30387 | P16: 0 | Q16: 46248 | R16: 0 | S16: 263536 | T16: 0 | U16: 6 | V16: 0 | W16: 93276 | X16: 0 | Y16: 742887
A17: =IFERROR(VLOOKUP(C17,'LT-EN'!$A:$B,2,FALSE)," ") -> 2.1. Policyholders - legal persons | B17: 10 | C17: 2.1. Draudėjai - juridiniai asmenys | G17: 1574 | H17: 0 | I17: 9258 | L17: 9255 | M17: 14847 | O17: 4554 | Q17: 20345 | S17: 22596 | U17: 6 | W17: 3 | Y17: 82438
A18: =IFERROR(VLOOKUP(C18,'LT-EN'!$A:$B,2,FALSE)," ") -> 2.2. Policyholders - natural persons | B18: 11 | C18: 2.2. Draudėjai - fiziniai asmenys | G18: 14849 | H18: 0 | I18: 77076 | L18: 69315 | M18: 113260 | O18: 25833 | Q18: 25903 | S18: 240940 | W18: 93273 | Y18: 660449
A19: =IFERROR(VLOOKUP(C19,'LT-EN'!$A:$B,2,FALSE)," ") -> 3. Workers' compensation insurance | B19: 12 | C19: 3. Nelaimingų atsitikimų darbe draudimas | H19: 0 | I19: 0 | L19: 0 | O19: 0 | Q19: 0 | S19: 0 | Y19: 0
A20: =IFERROR(VLOOKUP(C20,'LT-EN'!$A:$B,2,FALSE)," ") -> 4. Motor vehicle liability insurance | B20: 13 | C20: 4. Motorinių transporto priemonių valdytojų civilinės atsakomybės draudimas | D20: 0 | E20: 0 | F20: 0 | G20: 98341 | H20: 20644 | I20: 318802 | J20: 0 | K20: 0 | L20: 338369 | M20: 463505 | N20: 0 | O20: 163882 | P20: 0 | Q20: 125585 | R20: 0 | S20: 572209 | T20: 0 | U20: 0 | V20: 0 | W20: 68788 | X20: 0 | Y20: 2170125
A21: =IFERROR(VLOOKUP(C21,'LT-EN'!$A:$B,2,FALSE)," ") -> 4.1. Liability arising out of the use of motor vehicles operating on the land insurance | B21: 14 | C21: 4.1. Sausumos transporto priemonių valdytojų civilinės atsakomybės draudimas | D21: 0 | E21: 0 | F21: 0 | G21: 98341 | H21: 20644 | I21: 318028 | J21: 0 | K21: 0 | L21: 338369 | M21: 462757 | N21: 0 | O21: 163878 | P21: 0 | Q21: 124904 | R21: 0 | S21: 571331 | T21: 0 | U21: 0 | V21: 0 | W21: 68788 | X21: 0 | Y21: 2167040
A22: =IFERROR(VLOOKUP(C22,'LT-EN'!$A:$B,2,FALSE)," ") -> 4.1.1. Policyholders - legal persons | B22: 15 | C22: 4.1.1. Draudėjai - juridiniai asmenys | G22: 27542 | H22: 1 | I22: 79474 | L22: 51963 | M22: 86777 | O22: 26636 | Q22: 48282 | S22: 134860 | W22: 2941 | Y22: 458476
A23: =IFERROR(VLOOKUP(C23,'LT-EN'!$A:$B,2,FALSE)," ") -> 4.1.2. Policyholders - natural persons | B23: 16 | C23: 4.1.2. Draudėjai - fiziniai asmenys | G23: 70799 | H23: 20643 | I23: 238554 | L23: 286406 | M23: 375980 | O23: 137242 | Q23: 76622 | S23: 436471 | W23: 65847 | Y23: 1708564
A24: =IFERROR(VLOOKUP(C24,'LT-EN'!$A:$B,2,FALSE)," ") -> 4.2. Carrier third party liability (CMR) insurance | B24: 17 | C24: 4.2. Vežėjų civilinės atsakomybės draudimas | H24: 0 | I24: 761 | L24: 0 | M24: 748 | O24: 0 | Q24: 681 | S24: 865 | Y24: 3055
A25: =IFERROR(VLOOKUP(C25,'LT-EN'!$A:$B,2,FALSE)," ") -> 4.3. Liability arising out of use railway rolling stock insurance | B25: 18 | C25: 4.3. Geležinkelių transporto priemonių valdytojų civilinės atsakomybės draudimas | H25: 0 | I25: 13 | L25: 0 | O25: 4 | Q25: 0 | S25: 13 | Y25: 30
A26: =IFERROR(VLOOKUP(C26,'LT-EN'!$A:$B,2,FALSE)," ") -> 5. Other motor insurance | B26: 19 | C26: 5. Kitas transporto priemonių draudimas | D26: 0 | E26: 0 | F26: 0 | G26: 9706 | H26: 0 | I26: 65197 | J26: 0 | K26: 0 | L26: 92935 | M26: 105758 | N26: 0 | O26: 11640 | P26: 0 | Q26: 51831 | R26: 0 | S26: 207681 | T26: 0 | U26: 0 | V26: 0 | W26: 30142 | X26: 0 | Y26: 574890
A27: =IFERROR(VLOOKUP(C27,'LT-EN'!$A:$B,2,FALSE)," ") -> 5.1. Land vehicles other than railway rolling stock insurance | B27: 20 | C27: 5.1. Sausumos transporto priemonių, išskyrus geležinkelio transporto priemones, draudimas | D27: 0 | E27: 0 | F27: 0 | G27: 9706 | H27: 0 | I27: 65187 | J27: 0 | K27: 0 | L27: 92935 | M27: 105757 | N27: 0 | O27: 11639 | P27: 0 | Q27: 51831 | R27: 0 | S27: 207673 | T27: 0 | U27: 0 | V27: 0 | W27: 30142 | X27: 0 | Y27: 574870
A28: =IFERROR(VLOOKUP(C28,'LT-EN'!$A:$B,2,FALSE)," ") -> 5.1.1. Policyholders - legal persons | B28: 21 | C28: 5.1.1. Draudėjai - juridiniai asmenys | G28: 754 | H28: 0 | I28: 16429 | L28: 27389 | M28: 42642 | O28: 5352 | Q28: 23847 | S28: 83016 | W28: 3401 | Y28: 202830
A29: =IFERROR(VLOOKUP(C29,'LT-EN'!$A:$B,2,FALSE)," ") -> 5.1.2. Policyholders - natural persons | B29: 22 | C29: 5.1.2. Draudėjai - fiziniai asmenys | G29: 8952 | H29: 0 | I29: 48758 | L29: 65546 | M29: 63115 | O29: 6287 | Q29: 27984 | S29: 124657 | W29: 26741 | Y29: 372040
A30: =IFERROR(VLOOKUP(C30,'LT-EN'!$A:$B,2,FALSE)," ") -> 5.2. Railway rolling stock insurance | B30: 23 | C30: 5.2. Geležinkelio transporto priemonių draudimas | H30: 0 | I30: 10 | L30: 0 | M30: 1 | O30: 1 | Q30: 0 | S30: 8 | Y30: 20
A31: =IFERROR(VLOOKUP(C31,'LT-EN'!$A:$B,2,FALSE)," ") -> 6. Marine, aviation and transport insurance | B31: 24 | C31: 6. Jūrų, oro ir sausumos transporto priemonių draudimas | D31: 0 | E31: 0 | F31: 0 | G31: 0 | H31: 0 | I31: 661 | J31: 0 | K31: 0 | L31: 134 | M31: 359 | N31: 0 | O31: 43 | P31: 0 | Q31: 141 | R31: 0 | S31: 331 | T31: 0 | U31: 0 | V31: 0 | W31: 0 | X31: 0 | Y31: 1669
A32: =IFERROR(VLOOKUP(C32,'LT-EN'!$A:$B,2,FALSE)," ") -> 6.1. Liability arising out of use of ships (sea and internal waters) insurance | B32: 25 | C32: 6.1. Laivų (jūrų ir vidaus vandenų) valdytojų civilinės atsakomybės draudimas | H32: 0 | I32: 122 | L32: 0 | O32: 4 | Q32: 0 | S32: 83 | Y32: 209
A33: =IFERROR(VLOOKUP(C33,'LT-EN'!$A:$B,2,FALSE)," ") -> 6.2. Ships (sea and internal waters) insurance | B33: 26 | C33: 6.2. Laivų (jūrų ir vidaus vandenų) draudimas | H33: 0 | I33: 59 | L33: 0 | M33: 57 | O33: 7 | P33: 0 | Q33: 32 | S33: 98 | Y33: 253
A34: =IFERROR(VLOOKUP(C34,'LT-EN'!$A:$B,2,FALSE)," ") -> 6.3. Liability arising out of the use of aircraft insurance | B34: 27 | C34: 6.3. Skraidymo aparatų valdytojų civilinės atsakomybės draudimas | H34: 0 | I34: 347 | L34: 0 | O34: 0 | Q34: 11 | S34: 1 | Y34: 359
A35: =IFERROR(VLOOKUP(C35,'LT-EN'!$A:$B,2,FALSE)," ") -> 6.4. Aircraft insurance | B35: 28 | C35: 6.4. Skraidymo aparatų draudimas | H35: 0 | I35: 27 | L35: 0 | O35: 0 | Q35: 0 | S35: 1 | Y35: 28
A36: =IFERROR(VLOOKUP(C36,'LT-EN'!$A:$B,2,FALSE)," ") -> 6.5. Goods in transit insurance | B36: 29 | C36: 6.5. Vežamų krovinių draudimas | H36: 0 | I36: 106 | L36: 134 | M36: 302 | O36: 32 | P36: 0 | Q36: 98 | S36: 148 | Y36: 820
A37: =IFERROR(VLOOKUP(C37,'LT-EN'!$A:$B,2,FALSE)," ") -> 7. Fire and other damage to property insurance | B37: 30 | C37: 7. Draudimas nuo gaisro ir kitos žalos, padarytos turtui | D37: 0 | E37: 0 | F37: 0 | G37: 22709 | H37: 0 | I37: 103522 | J37: 0 | K37: 0 | L37: 94015 | M37: 219055 | N37: 0 | O37: 56192 | P37: 0 | Q37: 46738 | R37: 0 | S37: 702566 | T37: 0 | U37: 0 | V37: 0 | W37: 268705 | X37: 6878 | Y37: 1520380
A38: =IFERROR(VLOOKUP(C38,'LT-EN'!$A:$B,2,FALSE)," ") -> 7.1. Crop insurance | B38: 31 | C38: 7.1. Pasėlių draudimas | H38: 0 | I38: 65 | L38: 5 | O38: 0 | Q38: 0 | S38: 0 | X38: 6878 | Y38: 6948
A39: =IFERROR(VLOOKUP(C39,'LT-EN'!$A:$B,2,FALSE)," ") -> 7.2. Livestock insurance | B39: 32 | C39: 7.2. Gyvūnų draudimas | H39: 0 | I39: 134 | L39: 0 | M39: 464 | O39: 21 | Q39: 0 | S39: 348 | Y39: 967
A40: =IFERROR(VLOOKUP(C40,'LT-EN'!$A:$B,2,FALSE)," ") -> 7.3. Other property insurance | B40: 33 | C40: 7.3. Kitas turto draudimas | D40: 0 | E40: 0 | F40: 0 | G40: 22709 | H40: 0 | I40: 103323 | J40: 0 | K40: 0 | L40: 94010 | M40: 218591 | N40: 0 | O40: 56171 | P40: 0 | Q40: 46738 | R40: 0 | S40: 702218 | T40: 0 | U40: 0 | V40: 0 | W40: 268705 | X40: 0 | Y40: 1512465
A41: =IFERROR(VLOOKUP(C41,'LT-EN'!$A:$B,2,FALSE)," ") -> 7.3.1. Policyholders - legal persons | B41: 34 | C41: 7.3.1. Draudėjai - juridiniai asmenys | G41: 3376 | H41: 0 | I41: 12197 | L41: 8923 | M41: 11956 | O41: 6508 | Q41: 5521 | S41: 13141 | W41: 65 | Y41: 61687
A42: =IFERROR(VLOOKUP(C42,'LT-EN'!$A:$B,2,FALSE)," ") -> 7.3.2. Policyholders - natural persons | B42: 35 | C42: 7.3.2. Draudėjai - fiziniai asmenys | G42: 19333 | H42: 0 | I42: 91126 | L42: 85087 | M42: 206635 | O42: 49663 | Q42: 41217 | S42: 689077 | W42: 268640 | Y42: 1450778
...

Sheet DSR3
A1: Insurance contracts cancelled, units | C1: Nutrauktos draudimo sutartys, vnt.
A3: ='DSR1'!C3 -> 2026-09-30
B5: Per ataskaitinį laikotarpį nutrauktos draudimo sutartys, vnt.
A6: Business lines / Insurers | B6: eil.nr | C6: Draudimo grupės / Draudikai | D6: Allianz Lietuva gyvybės draudimas | E6: Artea Life Insurance | F6: ATRADIUS filialas | G6: Balcia Insurance filialas | H6: Baltijas Apdrosinasanas Nams filialas | I6: BTA Insurance Company filialas | J6: COFACE filialas | K6: Compensa Life VIG filialas | L6: Compensa VIG | M6: ERGO Insurance filialas | N6: ERGO Life Insurance | O6: Gjensidige | P6: If P&C Insurance (publ) filialas | Q6: If P&C Insurance filialas | R6: Lamantinas | S6: Lietuvos draudimas | T6: PZU Lietuva gyvybės draudimas | U6: SEB Life and Pension Baltic filialas | V6: Swedbank Life Insurance filialas | W6: Swedbank P&C Insurance filialas | X6: Vereinigte Hagelversicherung filialas VH Lietuva | Y6: All
A7: =IFERROR(VLOOKUP(C7,'LT-EN'!$A:$B,2,FALSE)," ") -> ALL | B7: 0 | C7: Visos | D7: 4461 | E7: 2644 | F7: 0 | G7: 0 | H7: 0 | I7: 0 | J7: 0 | K7: 8461 | L7: 0 | M7: 0 | N7: 2565 | O7: 0 | P7: 0 | Q7: 0 | R7: 0 | S7: 0 | T7: 1627 | U7: 9610 | V7: 7401 | W7: 0 | X7: 0 | Y7: 36769
A8: =IFERROR(VLOOKUP(C8,'LT-EN'!$A:$B,2,FALSE)," ") -> LIFE ASSURANCE | B8: 49 | C8: GYVYBĖS DRAUDIMAS | D8: 4461 | E8: 2644 | F8: 0 | G8: 0 | H8: 0 | I8: 0 | J8: 0 | K8: 8461 | L8: 0 | M8: 0 | N8: 2565 | O8: 0 | P8: 0 | Q8: 0 | R8: 0 | S8: 0 | T8: 1627 | U8: 9610 | V8: 7401 | W8: 0 | X8: 0 | Y8: 36769
A9: =IFERROR(VLOOKUP(C9,'LT-EN'!$A:$B,2,FALSE)," ") -> 1. Health insurance | B9: 50 | C9: 1. Sveikatos draudimas | K9: 98 | N9: 640 | O9: 0 | T9: 1 | Y9: 739
A10: =IFERROR(VLOOKUP(C10,'LT-EN'!$A:$B,2,FALSE)," ") -> 2. Insurance with profit participation | B10: 51 | C10: 2. Draudimas su teise dalytis pelną | D10: 0 | E10: 91 | F10: 0 | G10: 0 | H10: 0 | I10: 0 | J10: 0 | K10: 2422 | L10: 0 | M10: 0 | N10: 380 | O10: 0 | P10: 0 | Q10: 0 | R10: 0 | S10: 0 | T10: 299 | U10: 2 | V10: 26 | W10: 0 | X10: 0 | Y10: 3220
A11: =IFERROR(VLOOKUP(C11,'LT-EN'!$A:$B,2,FALSE)," ") -> 2.1. Insurance in case of survival | B11: 52 | C11: 2.1. Draudimas išgyvenimo atveju | E11: 77 | K11: 2422 | N11: 293 | O11: 0 | T11: 299 | U11: 2 | V11: 26 | Y11: 3119
A12: =IFERROR(VLOOKUP(C12,'LT-EN'!$A:$B,2,FALSE)," ") -> 2.2. Annuities | B12: 53 | C12: 2.2. Anuitetai | E12: 14 | K12: 0 | N12: 87 | O12: 0 | Q12: 0 | U12: 0 | V12: 0 | Y12: 101
A13: =IFERROR(VLOOKUP(C13,'LT-EN'!$A:$B,2,FALSE)," ") -> 2.3.Insurance in case of death | B13: 54 | C13: 2.3. Draudimas mirties atveju | K13: 0 | O13: 0 | V13: 0 | Y13: 0
A14: =IFERROR(VLOOKUP(C14,'LT-EN'!$A:$B,2,FALSE)," ") -> 2.4. Other insurance with profit participation | B14: 55 | C14: 2.4. Kitas draudimas, suteikiantis teisę gauti pelno dalį | K14: 0 | O14: 0 | V14: 0 | Y14: 0
A15: =IFERROR(VLOOKUP(C15,'LT-EN'!$A:$B,2,FALSE)," ") -> 3. Index-linked and unit-linked insurance | B15: 56 | C15: 3. Su indeksu ir investiciniais vienetais susijęs draudimas | D15: 3762 | E15: 2003 | F15: 0 | G15: 0 | H15: 0 | I15: 0 | J15: 0 | K15: 5643 | L15: 0 | M15: 0 | N15: 852 | O15: 0 | P15: 0 | Q15: 0 | R15: 0 | S15: 0 | T15: 1132 | U15: 3511 | V15: 3470 | W15: 0 | X15: 0 | Y15: 20373
A16: =IFERROR(VLOOKUP(C16,'LT-EN'!$A:$B,2,FALSE)," ") -> 3.1. Index-linked and unit-linked insurance, when the insurance risk is significant | B16: 57 | C16: 3.1. Su indeksu ir investiciniais vienetais susijęs draudimas, kai draudimo rizika yra reikšminga | D16: 3762 | E16: 1605 | K16: 0 | N16: 732 | O16: 0 | T16: 962 | U16: 736 | V16: 3265 | Y16: 11062
A17: =IFERROR(VLOOKUP(C17,'LT-EN'!$A:$B,2,FALSE)," ") -> 3.2. Index-linked and unit-linked insurance, when the insurance risk is insignificant | B17: 58 | C17: 3.2. Su indeksu ir investiciniais vienetais susijęs draudimas, kai draudimo rizika yra nereikšminga | E17: 398 | K17: 5643 | N17: 120 | O17: 0 | T17: 170 | U17: 2775 | V17: 205 | Y17: 9311
A18: =IFERROR(VLOOKUP(C18,'LT-EN'!$A:$B,2,FALSE)," ") -> 4. Other life insurance | B18: 59 | C18: 4. Kitas gyvybės draudimas | D18: 699 | E18: 550 | F18: 0 | G18: 0 | H18: 0 | I18: 0 | J18: 0 | K18: 298 | L18: 0 | M18: 0 | N18: 693 | O18: 0 | P18: 0 | Q18: 0 | R18: 0 | S18: 0 | T18: 195 | U18: 6097 | V18: 3905 | W18: 0 | X18: 0 | Y18: 12437
A19: =IFERROR(VLOOKUP(C19,'LT-EN'!$A:$B,2,FALSE)," ") -> 4.1. Insurance in case of survival | B19: 60 | C19: 4.1. Draudimas išgyvenimo atveju | K19: 0 | O19: 0 | V19: 0 | Y19: 0
A20: =IFERROR(VLOOKUP(C20,'LT-EN'!$A:$B,2,FALSE)," ") -> 4.2. Annuities | B20: 61 | C20: 4.2. Anuitetai | K20: 0 | O20: 0 | V20: 0 | Y20: 0
A21: =IFERROR(VLOOKUP(C21,'LT-EN'!$A:$B,2,FALSE)," ") -> 4.3. Insurance in case of death | B21: 62 | C21: 4.3. Draudimas mirties atveju | D21: 699 | E21: 550 | K21: 298 | N21: 693 | O21: 0 | T21: 195 | U21: 6097 | V21: 3905 | Y21: 12437
A22: =IFERROR(VLOOKUP(C22,'LT-EN'!$A:$B,2,FALSE)," ") -> 4.4. Other life insurance | B22: 63 | C22: 4.4. Kitas gyvybės draudimas | K22: 0 | O22: 0 | V22: 0 | Y22: 0
A23: =IFERROR(VLOOKUP(C23,'LT-EN'!$A:$B,2,FALSE)," ")
A24: =IFERROR(VLOOKUP(C24,'LT-EN'!$A:$B,2,FALSE)," ")
A25: =IFERROR(VLOOKUP(C25,'LT-EN'!$A:$B,2,FALSE)," ")
A26: =IFERROR(VLOOKUP(C26,'LT-EN'!$A:$B,2,FALSE)," ")
A27: =IFERROR(VLOOKUP(C27,'LT-EN'!$A:$B,2,FALSE)," ")
A28: =IFERROR(VLOOKUP(C28,'LT-EN'!$A:$B,2,FALSE)," ")
A29: =IFERROR(VLOOKUP(C29,'LT-EN'!$A:$B,2,FALSE)," ")
A30: =IFERROR(VLOOKUP(C30,'LT-EN'!$A:$B,2,FALSE)," ")
A31: =IFERROR(VLOOKUP(C31,'LT-EN'!$A:$B,2,FALSE)," ")
A32: =IFERROR(VLOOKUP(C32,'LT-EN'!$A:$B,2,FALSE)," ")
A33: =IFERROR(VLOOKUP(C33,'LT-EN'!$A:$B,2,FALSE)," ")
A34: =IFERROR(VLOOKUP(C34,'LT-EN'!$A:$B,2,FALSE)," ")
... A265: =IFERROR(VLOOKUP(C265,'LT-EN'!$A:$B,2,FALSE)," ")

Sheet DSR5
A1: Insurance premiums, EUR | C1: Draudimo įmokos, Eur
A3: ='DSR1'!C3 -> 2026-09-30
B5: Draudimo įmokos iš viso, Eur
A6: Business lines / Insurers | B6: eil.nr | C6: Draudimo grupės / Draudikai | D6: Allianz Lietuva gyvybės draudimas | E6: Artea Life Insurance | F6: ATRADIUS filialas | G6: Balcia Insurance filialas | H6: Baltijas Apdrosinasanas Nams filialas | I6: BTA Insurance Company filialas | J6: COFACE filialas | K6: Compensa Life VIG filialas | L6: Compensa VIG | M6: ERGO Insurance filialas | N6: ERGO Life Insurance | O6: Gjensidige | P6: If P&C Insurance (publ) filialas | Q6: If P&C Insurance filialas | R6: Lamantinas | S6: Lietuvos draudimas | T6: PZU Lietuva gyvybės draudimas | U6: SEB Life and Pension Baltic filialas | V6: Swedbank Life Insurance filialas | W6: Swedbank P&C Insurance filialas | X6: Vereinigte Hagelversicherung filialas VH Lietuva | Y6: All
A7: =IFERROR(VLOOKUP(C7,'LT-EN'!$A:$B,2,FALSE)," ") -> ALL | B7: 0 | C7: Visos | D7: 80822196 | E7: 26398827 | F7: 0 | G7: 29644057 | H7: 1306366.5 | I7: 168240063 | J7: 4999174 | K7: 98006846 | L7: 1.1411607e+08 | M7: 1.5170123e+08 | N7: 27870571 | O7: 32330609 | P7: 0 | Q7: 62876953 | R7: 1163805 | S7: 2.9771989e+08 | T7: 24185761 | U7: 60177662 | V7: 65464514 | W7: 61874342 | X7: 22352295 | Y7: 1.3312512e+09
A8: =IFERROR(VLOOKUP(C8,'LT-EN'!$A:$B,2,FALSE)," ") -> NON-LIFE INSURANCE | B8: 1 | C8: NE GYVYBĖS DRAUDIMAS | D8: 0 | E8: 0 | F8: 0 | G8: 29644057 | H8: 1306366.5 | I8: 168240063 | J8: 4999174 | K8: 28847134 | L8: 1.1411607e+08 | M8: 1.5170123e+08 | N8: 6848253.4 | O8: 32330609 | P8: 0 | Q8: 62876953 | R8: 1163805 | S8: 2.9771989e+08 | T8: 0 | U8: 448243.06 | V8: 0 | W8: 61874342 | X8: 22352295 | Y8: 9.8446849e+08
A9: =IFERROR(VLOOKUP(C9,'LT-EN'!$A:$B,2,FALSE)," ") -> 1. Medical expense insurance | B9: 2 | C9: 1. Medicininių išlaidų draudimas | D9: 0 | E9: 0 | F9: 0 | G9: 1052325.1 | H9: 0 | I9: 22202504 | J9: 0 | K9: 28847134 | L9: 12509976 | M9: 2078991.5 | N9: 6848253.4 | O9: 6770961 | P9: 0 | Q9: 1005905.1 | R9: 0 | S9: 21590952 | T9: 0 | U9: 0 | V9: 0 | W9: 2364879.9 | X9: 0 | Y9: 1.0527188e+08
A10: =IFERROR(VLOOKUP(C10,'LT-EN'!$A:$B,2,FALSE)," ") -> 1.1. Supplementary voluntary health insurance | B10: 3 | C10: 1.1. Papildomasis savanoriškasis sveikatos draudimas | D10: 0 | E10: 0 | F10: 0 | G10: 0 | H10: 0 | I10: 18037124 | J10: 0 | K10: 28847134 | L10: 11274327 | M10: 0 | N10: 6848253.4 | O10: 5781885.5 | P10: 0 | Q10: 0 | R10: 0 | S10: 18380348 | T10: 0 | U10: 0 | V10: 0 | W10: 0 | X10: 0 | Y10: 89169072
A11: =IFERROR(VLOOKUP(C11,'LT-EN'!$A:$B,2,FALSE)," ") -> 1.1.1. Policyholders - legal persons | B11: 4 | C11: 1.1.1. Draudėjai - juridiniai asmenys | H11: 0 | I11: 16283777 | K11: 28847134 | L11: 11237504 | N11: 6791579.6 | O11: 5767349.5 | Q11: 0 | S11: 13685950 | Y11: 82613294
A12: =IFERROR(VLOOKUP(C12,'LT-EN'!$A:$B,2,FALSE)," ") -> 1.1.2. Policyholders - natural persons | B12: 5 | C12: 1.1.2. Draudėjai - fiziniai asmenys | H12: 0 | I12: 1753347 | L12: 36823.19 | N12: 56673.74 | O12: 14535.95 | Q12: 0 | S12: 4694397.5 | Y12: 6555777.4
A13: =IFERROR(VLOOKUP(C13,'LT-EN'!$A:$B,2,FALSE)," ") -> 1.2. Other | B13: 6 | C13: 1.2. Kita | D13: 0 | E13: 0 | F13: 0 | G13: 1052325.1 | H13: 0 | I13: 4165380 | J13: 0 | K13: 0 | L13: 1235649.2 | M13: 2078991.5 | N13: 0 | O13: 989075.54 | P13: 0 | Q13: 1005905.1 | R13: 0 | S13: 3210603.7 | T13: 0 | U13: 0 | V13: 0 | W13: 2364879.9 | X13: 0 | Y13: 16102810
A14: =IFERROR(VLOOKUP(C14,'LT-EN'!$A:$B,2,FALSE)," ") -> 1.2.1. Policyholders - legal persons | B14: 7 | C14: 1.2.1. Draudėjai - juridiniai asmenys | G14: 298389.55 | H14: 0 | I14: 955840 | L14: 547648.15 | M14: 550192.35 | O14: 105666.31 | Q14: 170384.77 | S14: 1073268.4 | W14: 83.75 | Y14: 3701473.3
A15: =IFERROR(VLOOKUP(C15,'LT-EN'!$A:$B,2,FALSE)," ") -> 1.2.2. Policyholders - natural persons | B15: 8 | C15: 1.2.2. Draudėjai - fiziniai asmenys | G15: 753935.56 | H15: 0 | I15: 3209540 | L15: 688001.03 | M15: 1528799.1 | O15: 883409.23 | Q15: 835520.33 | S15: 2137335.2 | W15: 2364796.2 | Y15: 12401337
A16: =IFERROR(VLOOKUP(C16,'LT-EN'!$A:$B,2,FALSE)," ") -> 2. Income protection insurance | B16: 9 | C16: 2. Pajamų apsaugos draudimas | D16: 0 | E16: 0 | F16: 0 | G16: 991838.67 | H16: 0 | I16: 6636365 | J16: 0 | K16: 0 | L16: 3059463.8 | M16: 7973112.3 | N16: 0 | O16: 1438902 | P16: 0 | Q16: 1035126.1 | R16: 0 | S16: 20577548 | T16: 0 | U16: 448243.06 | V16: 0 | W16: 2269723.9 | X16: 0 | Y16: 44430322
A17: =IFERROR(VLOOKUP(C17,'LT-EN'!$A:$B,2,FALSE)," ") -> 2.1. Policyholders - legal persons | B17: 10 | C17: 2.1. Draudėjai - juridiniai asmenys | G17: 528258.98 | H17: 0 | I17: 1352658 | L17: 840813.85 | M17: 1236092.2 | O17: 270821.67 | Q17: 680531.72 | S17: 1816504.1 | U17: 448243.06 | W17: 59.89 | Y17: 7173983.5
A18: =IFERROR(VLOOKUP(C18,'LT-EN'!$A:$B,2,FALSE)," ") -> 2.2. Policyholders - natural persons | B18: 11 | C18: 2.2. Draudėjai - fiziniai asmenys | G18: 463579.69 | H18: 0 | I18: 5283707 | L18: 2218649.9 | M18: 6737020.1 | O18: 1168080.3 | Q18: 354594.42 | S18: 18761043 | W18: 2269664 | Y18: 37256339
A19: =IFERROR(VLOOKUP(C19,'LT-EN'!$A:$B,2,FALSE)," ") -> 3. Workers' compensation insurance | B19: 12 | C19: 3. Nelaimingų atsitikimų darbe draudimas | H19: 0 | I19: 0 | L19: 0 | M19: 0 | O19: 0 | Q19: 0 | S19: 0 | Y19: 0
A20: =IFERROR(VLOOKUP(C20,'LT-EN'!$A:$B,2,FALSE)," ") -> 4. Motor vehicle liability insurance | B20: 13 | C20: 4. Motorinių transporto priemonių valdytojų civilinės atsakomybės draudimas | D20: 0 | E20: 0 | F20: 0 | G20: 14882762 | H20: 1306366.5 | I20: 55918270 | J20: 0 | K20: 0 | L20: 24788952 | M20: 60190330 | N20: 0 | O20: 11177205 | P20: 0 | Q20: 18769611 | R20: 0 | S20: 85878794 | T20: 0 | U20: 0 | V20: 0 | W20: 5767266.3 | X20: 0 | Y20: 2.7867956e+08
A21: =IFERROR(VLOOKUP(C21,'LT-EN'!$A:$B,2,FALSE)," ") -> 4.1. Liability arising out of the use of motor vehicles operating on the land insurance | B21: 14 | C21: 4.1. Sausumos transporto priemonių valdytojų civilinės atsakomybės draudimas | D21: 0 | E21: 0 | F21: 0 | G21: 14882762 | H21: 1306366.5 | I21: 55016332 | J21: 0 | K21: 0 | L21: 24788952 | M21: 58833355 | N21: 0 | O21: 11021125 | P21: 0 | Q21: 18062747 | R21: 0 | S21: 84423296 | T21: 0 | U21: 0 | V21: 0 | W21: 5767266.3 | X21: 0 | Y21: 2.741022e+08
A22: =IFERROR(VLOOKUP(C22,'LT-EN'!$A:$B,2,FALSE)," ") -> 4.1.1. Policyholders - legal persons | B22: 15 | C22: 4.1.1. Draudėjai - juridiniai asmenys | G22: 9161798.2 | H22: 99.77 | I22: 35252129 | L22: 6374119.8 | M22: 27417428 | O22: 2832488.6 | Q22: 12539044 | S22: 34985839 | W22: 341291.19 | Y22: 1.2890424e+08
A23: =IFERROR(VLOOKUP(C23,'LT-EN'!$A:$B,2,FALSE)," ") -> 4.1.2. Policyholders - natural persons | B23: 16 | C23: 4.1.2. Draudėjai - fiziniai asmenys | G23: 5720964 | H23: 1306266.8 | I23: 19764203 | L23: 18414832 | M23: 31415926 | O23: 8188636.4 | Q23: 5523702.5 | S23: 49437456 | W23: 5425975.1 | Y23: 1.4519796e+08
A24: =IFERROR(VLOOKUP(C24,'LT-EN'!$A:$B,2,FALSE)," ") -> 4.2. Carrier third party liability (CMR) insurance | B24: 17 | C24: 4.2. Vežėjų civilinės atsakomybės draudimas | H24: 0 | I24: 882614 | L24: 0 | M24: 1356975.7 | O24: 155118.1 | Q24: 706864.51 | S24: 1043731.1 | Y24: 4145303.4
A25: =IFERROR(VLOOKUP(C25,'LT-EN'!$A:$B,2,FALSE)," ") -> 4.3. Liability arising out of use railway rolling stock insurance | B25: 18 | C25: 4.3. Geležinkelių transporto priemonių valdytojų civilinės atsakomybės draudimas | H25: 0 | I25: 19324 | L25: 0 | O25: 962 | Q25: 0 | S25: 411767 | Y25: 432053
A26: =IFERROR(VLOOKUP(C26,'LT-EN'!$A:$B,2,FALSE)," ") -> 5. Other motor insurance | B26: 19 | C26: 5. Kitas transporto priemonių draudimas | D26: 0 | E26: 0 | F26: 0 | G26: 7674198.6 | H26: 0 | I26: 39631350 | J26: 0 | K26: 0 | L26: 29950049 | M26: 37583784 | N26: 0 | O26: 3520825.8 | P26: 0 | Q26: 24932201 | R26: 0 | S26: 72594192 | T26: 0 | U26: 0 | V26: 0 | W26: 15794613 | X26: 0 | Y26: 2.3168121e+08
A27: =IFERROR(VLOOKUP(C27,'LT-EN'!$A:$B,2,FALSE)," ") -> 5.1. Land vehicles other than railway rolling stock insurance | B27: 20 | C27: 5.1. Sausumos transporto priemonių, išskyrus geležinkelio transporto priemones, draudimas | D27: 0 | E27: 0 | F27: 0 | G27: 7674198.6 | H27: 0 | I27: 39594504 | J27: 0 | K27: 0 | L27: 29950049 | M27: 37579248 | N27: 0 | O27: 3520825.8 | P27: 0 | Q27: 24932201 | R27: 0 | S27: 72580069 | T27: 0 | U27: 0 | V27: 0 | W27: 15794613 | X27: 0 | Y27: 2.3162571e+08
A28: =IFERROR(VLOOKUP(C28,'LT-EN'!$A:$B,2,FALSE)," ") -> 5.1.1. Policyholders - legal persons | B28: 21 | C28: 5.1.1. Draudėjai - juridiniai asmenys | G28: 3458274 | H28: 0 | I28: 22794443 | L28: 11037459 | M28: 17165626 | O28: 1563335 | Q28: 12824609 | S28: 35725795 | W28: 2003344 | Y28: 1.0657288e+08
A29: =IFERROR(VLOOKUP(C29,'LT-EN'!$A:$B,2,FALSE)," ") -> 5.1.2. Policyholders - natural persons | B29: 22 | C29: 5.1.2. Draudėjai - fiziniai asmenys | G29: 4215924.5 | H29: 0 | I29: 16800061 | L29: 18912590 | M29: 20413622 | O29: 1957490.8 | Q29: 12107592 | S29: 36854274 | W29: 13791269 | Y29: 1.2505282e+08
A30: =IFERROR(VLOOKUP(C30,'LT-EN'!$A:$B,2,FALSE)," ") -> 5.2. Railway rolling stock insurance | B30: 23 | C30: 5.2. Geležinkelio transporto priemonių draudimas | H30: 0 | I30: 36846 | L30: 0 | M30: 4536.47 | O30: 0 | Q30: 0 | S30: 14122.33 | Y30: 55504.8
A31: =IFERROR(VLOOKUP(C31,'LT-EN'!$A:$B,2,FALSE)," ") -> 6. Marine, aviation and transport insurance | B31: 24 | C31: 6. Jūrų, oro ir sausumos transporto priemonių draudimas | D31: 0 | E31: 0 | F31: 0 | G31: 0 | H31: 0 | I31: 731870 | J31: 0 | K31: 0 | L31: 585519.32 | M31: 1252572.6 | N31: 0 | O31: 467669.74 | P31: 0 | Q31: 278523.33 | R31: 0 | S31: 615270.46 | T31: 0 | U31: 0 | V31: 0 | W31: 0 | X31: 0 | Y31: 3931425.4
A32: =IFERROR(VLOOKUP(C32,'LT-EN'!$A:$B,2,FALSE)," ") -> 6.1. Liability arising out of use of ships (sea and internal waters) insurance | B32: 25 | C32: 6.1. Laivų (jūrų ir vidaus vandenų) valdytojų civilinės atsakomybės draudimas | H32: 0 | I32: 65369 | L32: 0 | O32: 740 | Q32: 0 | S32: 18479.64 | Y32: 84588.64
A33: =IFERROR(VLOOKUP(C33,'LT-EN'!$A:$B,2,FALSE)," ") -> 6.2. Ships (sea and internal waters) insurance | B33: 26 | C33: 6.2. Laivų (jūrų ir vidaus vandenų) draudimas | H33: 0 | I33: 187416 | L33: 0 | M33: 130305.85 | O33: 3598 | P33: 0 | Q33: 23523.383 | S33: 89758.54 | Y33: 434601.77
A34: =IFERROR(VLOOKUP(C34,'LT-EN'!$A:$B,2,FALSE)," ") -> 6.3. Liability arising out of the use of aircraft insurance | B34: 27 | C34: 6.3. Skraidymo aparatų valdytojų civilinės atsakomybės draudimas | H34: 0 | I34: 120259 | L34: 0 | O34: 0 | Q34: 0 | S34: 18570 | Y34: 138829
A35: =IFERROR(VLOOKUP(C35,'LT-EN'!$A:$B,2,FALSE)," ") -> 6.4. Aircraft insurance | B35: 28 | C35: 6.4. Skraidymo aparatų draudimas | H35: 0 | I35: 54406 | L35: 0 | O35: 0 | Q35: 0 | S35: 34136.81 | Y35: 88542.81
A36: =IFERROR(VLOOKUP(C36,'LT-EN'!$A:$B,2,FALSE)," ") -> 6.5. Goods in transit insurance | B36: 29 | C36: 6.5. Vežamų krovinių draudimas | H36: 0 | I36: 304420 | L36: 585519.32 | M36: 1122266.7 | O36: 463331.74 | P36: 0 | Q36: 254999.95 | S36: 454325.47 | Y36: 3184863.2
A37: =IFERROR(VLOOKUP(C37,'LT-EN'!$A:$B,2,FALSE)," ") -> 7. Fire and other damage to property insurance | B37: 30 | C37: 7. Draudimas nuo gaisro ir kitos žalos, padarytos turtui | D37: 0 | E37: 0 | F37: 0 | G37: 3773478.2 | H37: 0 | I37: 27058329 | J37: 0 | K37: 0 | L37: 31006775 | M37: 27549877 | N37: 0 | O37: 6602346.5 | P37: 0 | Q37: 13153945 | R37: 0 | S37: 86344328 | T37: 0 | U37: 0 | V37: 0 | W37: 27365366 | X37: 22352295 | Y37: 2.4520674e+08
A38: =IFERROR(VLOOKUP(C38,'LT-EN'!$A:$B,2,FALSE)," ") -> 7.1. Crop insurance | B38: 31 | C38: 7.1. Pasėlių draudimas | H38: 0 | I38: 428643 | L38: 32933.39 | O38: 0 | Q38: 0 | S38: 0 | X38: 22352295 | Y38: 22813871
A39: =IFERROR(VLOOKUP(C39,'LT-EN'!$A:$B,2,FALSE)," ") -> 7.2. Livestock insurance | B39: 32 | C39: 7.2. Gyvūnų draudimas | H39: 0 | I39: 874036 | L39: 0 | M39: 788018.27 | O39: 4781.22 | Q39: 0 | S39: 1714100.5 | Y39: 3380936
A40: =IFERROR(VLOOKUP(C40,'LT-EN'!$A:$B,2,FALSE)," ") -> 7.3. Other property insurance | B40: 33 | C40: 7.3. Kitas turto draudimas | D40: 0 | E40: 0 | F40: 0 | G40: 3773478.2 | H40: 0 | I40: 25755650 | J40: 0 | K40: 0 | L40: 30973842 | M40: 26761858 | N40: 0 | O40: 6597565.3 | P40: 0 | Q40: 13153945 | R40: 0 | S40: 84630227 | T40: 0 | U40: 0 | V40: 0 | W40: 27365366 | X40: 0 | Y40: 2.1901193e+08
A41: =IFERROR(VLOOKUP(C41,'LT-EN'!$A:$B,2,FALSE)," ") -> 7.3.1. Policyholders - legal persons | B41: 34 | C41: 7.3.1. Draudėjai - juridiniai asmenys | G41: 2341583.9 | H41: 0 | I41: 12858848 | L41: 21136777 | M41: 11175141 | O41: 2046279.7 | Q41: 7565704.2 | S41: 22309897 | W41: 8728.01 | Y41: 79442959
A42: =IFERROR(VLOOKUP(C42,'LT-EN'!$A:$B,2,FALSE)," ") -> 7.3.2. Policyholders - natural persons | B42: 35 | C42: 7.3.2. Draudėjai - fiziniai asmenys | G42: 1431894.3 | H42: 0 | I42: 12896802 | L42: 9837065.3 | M42: 15586717 | O42: 4551285.6 | Q42: 5588241.1 | S42: 62320331 | W42: 27356638 | Y42: 1.3956897e+08
...

Sheet DSR6
A1: Single premiums, EUR | C1: Vienakartinės draudimo įmokos, Eur
A3: ='DSR1'!C3 -> 2026-09-30
B5: Draudimo įmokos vienkartinės, Eur
A6: Business lines / Insurers | B6: eil.nr | C6: Draudimo grupės / Draudikai | D6: Allianz Lietuva gyvybės draudimas | E6: Artea Life Insurance | F6: ATRADIUS filialas | G6: Balcia Insurance filialas | H6: Baltijas Apdrosinasanas Nams filialas | I6: BTA Insurance Company filialas | J6: COFACE filialas | K6: Compensa Life VIG filialas | L6: Compensa VIG | M6: ERGO Insurance filialas | N6: ERGO Life Insurance | O6: Gjensidige | P6: If P&C Insurance (publ) filialas | Q6: If P&C Insurance filialas | R6: Lamantinas | S6: Lietuvos draudimas | T6: PZU Lietuva gyvybės draudimas | U6: SEB Life and Pension Baltic filialas | V6: Swedbank Life Insurance filialas | W6: Swedbank P&C Insurance filialas | X6: Vereinigte Hagelversicherung filialas VH Lietuva | Y6: All
A7: =IFERROR(VLOOKUP(C7,'LT-EN'!$A:$B,2,FALSE)," ") -> ALL | B7: 0 | C7: Visos | D7: 25341765 | E7: 1590192.8 | F7: 0 | G7: 0 | H7: 0 | I7: 0 | J7: 0 | K7: 4160993.1 | L7: 0 | M7: 0 | N7: 2092304.2 | O7: 0 | P7: 0 | Q7: 0 | R7: 0 | S7: 0 | T7: 2509585 | U7: 20 | V7: 607160 | W7: 0 | X7: 0 | Y7: 36302020
A8: =IFERROR(VLOOKUP(C8,'LT-EN'!$A:$B,2,FALSE)," ") -> LIFE ASSURANCE | B8: 49 | C8: GYVYBĖS DRAUDIMAS | D8: 25341765 | E8: 1590192.8 | F8: 0 | G8: 0 | H8: 0 | I8: 0 | J8: 0 | K8: 4160993.1 | L8: 0 | M8: 0 | N8: 2092304.2 | O8: 0 | P8: 0 | Q8: 0 | R8: 0 | S8: 0 | T8: 2509585 | U8: 20 | V8: 607160 | W8: 0 | X8: 0 | Y8: 36302020
A9: =IFERROR(VLOOKUP(C9,'LT-EN'!$A:$B,2,FALSE)," ") -> 1. Health insurance | B9: 50 | C9: 1. Sveikatos draudimas | K9: 0 | N9: 0 | O9: 0 | T9: 0 | Y9: 0
A10: =IFERROR(VLOOKUP(C10,'LT-EN'!$A:$B,2,FALSE)," ") -> 2. Insurance with profit participation | B10: 51 | C10: 2. Draudimas su teise dalytis pelną | D10: 0 | E10: 198 | F10: 0 | G10: 0 | H10: 0 | I10: 0 | J10: 0 | K10: 32064.45 | L10: 0 | M10: 0 | N10: 0 | O10: 0 | P10: 0 | Q10: 0 | R10: 0 | S10: 0 | T10: 74398 | U10: 0 | V10: 0 | W10: 0 | X10: 0 | Y10: 106660.45
A11: =IFERROR(VLOOKUP(C11,'LT-EN'!$A:$B,2,FALSE)," ") -> 2.1. Insurance in case of survival | B11: 52 | C11: 2.1. Draudimas išgyvenimo atveju | E11: 198 | K11: 32064.45 | N11: 0 | O11: 0 | T11: 74398 | U11: 0 | V11: 0 | Y11: 106660.45
A12: =IFERROR(VLOOKUP(C12,'LT-EN'!$A:$B,2,FALSE)," ") -> 2.2. Annuities | B12: 53 | C12: 2.2. Anuitetai | E12: 0 | K12: 0 | N12: 0 | O12: 0 | Q12: 0 | U12: 0 | V12: 0 | Y12: 0
A13: =IFERROR(VLOOKUP(C13,'LT-EN'!$A:$B,2,FALSE)," ") -> 2.3.Insurance in case of death | B13: 54 | C13: 2.3. Draudimas mirties atveju | K13: 0 | O13: 0 | V13: 0 | Y13: 0
A14: =IFERROR(VLOOKUP(C14,'LT-EN'!$A:$B,2,FALSE)," ") -> 2.4. Other insurance with profit participation | B14: 55 | C14: 2.4. Kitas draudimas, suteikiantis teisę gauti pelno dalį | K14: 0 | O14: 0 | V14: 0 | Y14: 0
A15: =IFERROR(VLOOKUP(C15,'LT-EN'!$A:$B,2,FALSE)," ") -> 3. Index-linked and unit-linked insurance | B15: 56 | C15: 3. Su indeksu ir investiciniais vienetais susijęs draudimas | D15: 25341765 | E15: 1285886 | F15: 0 | G15: 0 | H15: 0 | I15: 0 | J15: 0 | K15: 3894947.8 | L15: 0 | M15: 0 | N15: 2092304.2 | O15: 0 | P15: 0 | Q15: 0 | R15: 0 | S15: 0 | T15: 2435187 | U15: 20 | V15: 607160 | W15: 0 | X15: 0 | Y15: 35657270
A16: =IFERROR(VLOOKUP(C16,'LT-EN'!$A:$B,2,FALSE)," ") -> 3.1. Index-linked and unit-linked insurance, when the insurance risk is significant | B16: 57 | C16: 3.1. Su indeksu ir investiciniais vienetais susijęs draudimas, kai draudimo rizika yra reikšminga | D16: 25341765 | E16: 341680.86 | K16: 0 | N16: 989026.79 | O16: 0 | T16: 1365883 | U16: 20 | V16: 0 | Y16: 28038376
A17: =IFERROR(VLOOKUP(C17,'LT-EN'!$A:$B,2,FALSE)," ") -> 3.2. Index-linked and unit-linked insurance, when the insurance risk is insignificant | B17: 58 | C17: 3.2. Su indeksu ir investiciniais vienetais susijęs draudimas, kai draudimo rizika yra nereikšminga | E17: 944205.18 | K17: 3894947.8 | N17: 1103277.4 | O17: 0 | T17: 1069304 | U17: 0 | V17: 607160 | Y17: 7618894.4
A18: =IFERROR(VLOOKUP(C18,'LT-EN'!$A:$B,2,FALSE)," ") -> 4. Other life insurance | B18: 59 | C18: 4. Kitas gyvybės draudimas | D18: 0 | E18: 304108.79 | F18: 0 | G18: 0 | H18: 0 | I18: 0 | J18: 0 | K18: 233980.87 | L18: 0 | M18: 0 | N18: 0 | O18: 0 | P18: 0 | Q18: 0 | R18: 0 | S18: 0 | T18: 0 | U18: 0 | V18: 0 | W18: 0 | X18: 0 | Y18: 538089.66
A19: =IFERROR(VLOOKUP(C19,'LT-EN'!$A:$B,2,FALSE)," ") -> 4.1. Insurance in case of survival | B19: 60 | C19: 4.1. Draudimas išgyvenimo atveju | K19: 0 | O19: 0 | V19: 0 | Y19: 0
A20: =IFERROR(VLOOKUP(C20,'LT-EN'!$A:$B,2,FALSE)," ") -> 4.2. Annuities | B20: 61 | C20: 4.2. Anuitetai | K20: 233980.87 | O20: 0 | V20: 0 | Y20: 233980.87
A21: =IFERROR(VLOOKUP(C21,'LT-EN'!$A:$B,2,FALSE)," ") -> 4.3. Insurance in case of death | B21: 62 | C21: 4.3. Draudimas mirties atveju | D21: 0 | E21: 304108.79 | K21: 0 | N21: 0 | O21: 0 | T21: 0 | U21: 0 | V21: 0 | Y21: 304108.79
A22: =IFERROR(VLOOKUP(C22,'LT-EN'!$A:$B,2,FALSE)," ") -> 4.4. Other life insurance | B22: 63 | C22: 4.4. Kitas gyvybės draudimas | K22: 0 | O22: 0 | V22: 0 | Y22: 0
A23: =IFERROR(VLOOKUP(C23,'LT-EN'!$A:$B,2,FALSE)," ")
A24: =IFERROR(VLOOKUP(C24,'LT-EN'!$A:$B,2,FALSE)," ")
A25: =IFERROR(VLOOKUP(C25,'LT-EN'!$A:$B,2,FALSE)," ")
A26: =IFERROR(VLOOKUP(C26,'LT-EN'!$A:$B,2,FALSE)," ")
A27: =IFERROR(VLOOKUP(C27,'LT-EN'!$A:$B,2,FALSE)," ")
A28: =IFERROR(VLOOKUP(C28,'LT-EN'!$A:$B,2,FALSE)," ")
A29: =IFERROR(VLOOKUP(C29,'LT-EN'!$A:$B,2,FALSE)," ")
A30: =IFERROR(VLOOKUP(C30,'LT-EN'!$A:$B,2,FALSE)," ")
A31: =IFERROR(VLOOKUP(C31,'LT-EN'!$A:$B,2,FALSE)," ")
A32: =IFERROR(VLOOKUP(C32,'LT-EN'!$A:$B,2,FALSE)," ")
A33: =IFERROR(VLOOKUP(C33,'LT-EN'!$A:$B,2,FALSE)," ")
A34: =IFERROR(VLOOKUP(C34,'LT-EN'!$A:$B,2,FALSE)," ")
... A81: =IFERROR(VLOOKUP(C81,'LT-EN'!$A:$B,2,FALSE)," ")

Sheet DSR7
A1: Insurance premiums with periodical payments, EUR | C1: Periodinės draudimo įmokos, Eur
A3: ='DSR1'!C3 -> 2026-09-30
B5: Draudimo įmokos periodinės, Eur
A6: Business lines / Insurers | B6: eil.nr | C6: Draudimo grupės / Draudikai | D6: Allianz Lietuva gyvybės draudimas | E6: Artea Life Insurance | F6: ATRADIUS filialas | G6: Balcia Insurance filialas | H6: Baltijas Apdrosinasanas Nams filialas | I6: BTA Insurance Company filialas | J6: COFACE filialas | K6: Compensa Life VIG filialas | L6: Compensa VIG | M6: ERGO Insurance filialas | N6: ERGO Life Insurance | O6: Gjensidige | P6: If P&C Insurance (publ) filialas | Q6: If P&C Insurance filialas | R6: Lamantinas | S6: Lietuvos draudimas | T6: PZU Lietuva gyvybės draudimas | U6: SEB Life and Pension Baltic filialas | V6: Swedbank Life Insurance filialas | W6: Swedbank P&C Insurance filialas | X6: Vereinigte Hagelversicherung filialas VH Lietuva | Y6: All
A7: =IFERROR(VLOOKUP(C7,'LT-EN'!$A:$B,2,FALSE)," ") -> ALL | B7: 0 | C7: Visos | D7: 55480431 | E7: 24808634 | F7: 0 | G7: 0 | H7: 0 | I7: 0 | J7: 0 | K7: 64998719 | L7: 0 | M7: 0 | N7: 18930013 | O7: 0 | P7: 0 | Q7: 0 | R7: 0 | S7: 0 | T7: 21676176 | U7: 59729399 | V7: 64857354 | W7: 0 | X7: 0 | Y7: 3.1048073e+08
A8: =IFERROR(VLOOKUP(C8,'LT-EN'!$A:$B,2,FALSE)," ") -> LIFE ASSURANCE | B8: 49 | C8: GYVYBĖS DRAUDIMAS | D8: 55480431 | E8: 24808634 | F8: 0 | G8: 0 | H8: 0 | I8: 0 | J8: 0 | K8: 64998719 | L8: 0 | M8: 0 | N8: 18930013 | O8: 0 | P8: 0 | Q8: 0 | R8: 0 | S8: 0 | T8: 21676176 | U8: 59729399 | V8: 64857354 | W8: 0 | X8: 0 | Y8: 3.1048073e+08
A9: =IFERROR(VLOOKUP(C9,'LT-EN'!$A:$B,2,FALSE)," ") -> 1. Health insurance | B9: 50 | C9: 1. Sveikatos draudimas | K9: 342640.02 | N9: 2346642.2 | O9: 0 | T9: 0 | Y9: 2689282.2
A10: =IFERROR(VLOOKUP(C10,'LT-EN'!$A:$B,2,FALSE)," ") -> 2. Insurance with profit participation | B10: 51 | C10: 2. Draudimas su teise dalytis pelną | D10: 0 | E10: 856277.86 | F10: 0 | G10: 0 | H10: 0 | I10: 0 | J10: 0 | K10: 11567887 | L10: 0 | M10: 0 | N10: 2958754.9 | O10: 0 | P10: 0 | Q10: 0 | R10: 0 | S10: 0 | T10: 3545690 | U10: 34299.86 | V10: 246348 | W10: 0 | X10: 0 | Y10: 19209257
A11: =IFERROR(VLOOKUP(C11,'LT-EN'!$A:$B,2,FALSE)," ") -> 2.1. Insurance in case of survival | B11: 52 | C11: 2.1. Draudimas išgyvenimo atveju | E11: 734557.28 | K11: 11567887 | N11: 2465519.7 | O11: 0 | T11: 3545690 | U11: 34299.86 | V11: 245932 | Y11: 18593886
A12: =IFERROR(VLOOKUP(C12,'LT-EN'!$A:$B,2,FALSE)," ") -> 2.2. Annuities | B12: 53 | C12: 2.2. Anuitetai | E12: 121720.58 | K12: 0 | N12: 493235.12 | O12: 0 | Q12: 0 | U12: 0 | V12: 0 | Y12: 614955.7
A13: =IFERROR(VLOOKUP(C13,'LT-EN'!$A:$B,2,FALSE)," ") -> 2.3.Insurance in case of death | B13: 54 | C13: 2.3. Draudimas mirties atveju | K13: 0 | O13: 0 | V13: 0 | Y13: 0
A14: =IFERROR(VLOOKUP(C14,'LT-EN'!$A:$B,2,FALSE)," ") -> 2.4. Other insurance with profit participation | B14: 55 | C14: 2.4. Kitas draudimas, suteikiantis teisę gauti pelno dalį | K14: 0 | O14: 0 | V14: 416 | Y14: 416
A15: =IFERROR(VLOOKUP(C15,'LT-EN'!$A:$B,2,FALSE)," ") -> 3. Index-linked and unit-linked insurance | B15: 56 | C15: 3. Su indeksu ir investiciniais vienetais susijęs draudimas | D15: 53846479 | E15: 22937386 | F15: 0 | G15: 0 | H15: 0 | I15: 0 | J15: 0 | K15: 49143202 | L15: 0 | M15: 0 | N15: 11964154 | O15: 0 | P15: 0 | Q15: 0 | R15: 0 | S15: 0 | T15: 16594756 | U15: 48808794 | V15: 48486566 | W15: 0 | X15: 0 | Y15: 2.5178134e+08
A16: =IFERROR(VLOOKUP(C16,'LT-EN'!$A:$B,2,FALSE)," ") -> 3.1. Index-linked and unit-linked insurance, when the insurance risk is significant | B16: 57 | C16: 3.1. Su indeksu ir investiciniais vienetais susijęs draudimas, kai draudimo rizika yra reikšminga | D16: 53846479 | E16: 17395994 | K16: 0 | N16: 9251296 | O16: 0 | T16: 15103232 | U16: 11794921 | V16: 46563313 | Y16: 1.5395524e+08
A17: =IFERROR(VLOOKUP(C17,'LT-EN'!$A:$B,2,FALSE)," ") -> 3.2. Index-linked and unit-linked insurance, when the insurance risk is insignificant | B17: 58 | C17: 3.2. Su indeksu ir investiciniais vienetais susijęs draudimas, kai draudimo rizika yra nereikšminga | E17: 5541392.3 | K17: 49143202 | N17: 2712857.6 | O17: 0 | T17: 1491524 | U17: 37013873 | V17: 1923253 | Y17: 97826102
A18: =IFERROR(VLOOKUP(C18,'LT-EN'!$A:$B,2,FALSE)," ") -> 4. Other life insurance | B18: 59 | C18: 4. Kitas gyvybės draudimas | D18: 1633952 | E18: 1014970.1 | F18: 0 | G18: 0 | H18: 0 | I18: 0 | J18: 0 | K18: 3944990.4 | L18: 0 | M18: 0 | N18: 1660462.3 | O18: 0 | P18: 0 | Q18: 0 | R18: 0 | S18: 0 | T18: 1535730 | U18: 10886305 | V18: 16124440 | W18: 0 | X18: 0 | Y18: 36800849
A19: =IFERROR(VLOOKUP(C19,'LT-EN'!$A:$B,2,FALSE)," ") -> 4.1. Insurance in case of survival | B19: 60 | C19: 4.1. Draudimas išgyvenimo atveju | K19: 0 | O19: 0 | V19: 0 | Y19: 0
A20: =IFERROR(VLOOKUP(C20,'LT-EN'!$A:$B,2,FALSE)," ") -> 4.2. Annuities | B20: 61 | C20: 4.2. Anuitetai | K20: 0 | O20: 0 | V20: 0 | Y20: 0
A21: =IFERROR(VLOOKUP(C21,'LT-EN'!$A:$B,2,FALSE)," ") -> 4.3. Insurance in case of death | B21: 62 | C21: 4.3. Draudimas mirties atveju | D21: 1633952 | E21: 1014970.1 | K21: 3944990.4 | N21: 1660462.3 | O21: 0 | T21: 1535730 | U21: 10886305 | V21: 16124440 | Y21: 36800849
A22: =IFERROR(VLOOKUP(C22,'LT-EN'!$A:$B,2,FALSE)," ") -> 4.4. Other life insurance | B22: 63 | C22: 4.4. Kitas gyvybės draudimas | K22: 0 | O22: 0 | V22: 0 | Y22: 0
A23: =IFERROR(VLOOKUP(C23,'LT-EN'!$A:$B,2,FALSE)," ")
A24: =IFERROR(VLOOKUP(C24,'LT-EN'!$A:$B,2,FALSE)," ")
A25: =IFERROR(VLOOKUP(C25,'LT-EN'!$A:$B,2,FALSE)," ")
A26: =IFERROR(VLOOKUP(C26,'LT-EN'!$A:$B,2,FALSE)," ")
A27: =IFERROR(VLOOKUP(C27,'LT-EN'!$A:$B,2,FALSE)," ")
A28: =IFERROR(VLOOKUP(C28,'LT-EN'!$A:$B,2,FALSE)," ")
A29: =IFERROR(VLOOKUP(C29,'LT-EN'!$A:$B,2,FALSE)," ")
A30: =IFERROR(VLOOKUP(C30,'LT-EN'!$A:$B,2,FALSE)," ")
A31: =IFERROR(VLOOKUP(C31,'LT-EN'!$A:$B,2,FALSE)," ")
A32: =IFERROR(VLOOKUP(C32,'LT-EN'!$A:$B,2,FALSE)," ")
A33: =IFERROR(VLOOKUP(C33,'LT-EN'!$A:$B,2,FALSE)," ")
A34: =IFERROR(VLOOKUP(C34,'LT-EN'!$A:$B,2,FALSE)," ")
... A237: =IFERROR(VLOOKUP(C237,'LT-EN'!$A:$B,2,FALSE)," ")

Sheet DSR8
A1: Annual premiums under new concluded contracts with the established a periodical payment of premiums, EUR | C1: Periodinės metų įmokos pagal sudarytas naujas sutartis, Eur
A3: ='DSR1'!C3 -> 2026-09-30
B5: Periodinės metų įmokos pagal sudarytas naujas sutartis, Eur
A6: Business lines / Insurers | B6: eil.nr | C6: Draudimo grupės / Draudikai | D6: Allianz Lietuva gyvybės draudimas | E6: Artea Life Insurance | F6: ATRADIUS filialas | G6: Balcia Insurance filialas | H6: Baltijas Apdrosinasanas Nams filialas | I6: BTA Insurance Company filialas | J6: COFACE filialas | K6: Compensa Life VIG filialas | L6: Compensa VIG | M6: ERGO Insurance filialas | N6: ERGO Life Insurance | O6: Gjensidige | P6: If P&C Insurance (publ) filialas | Q6: If P&C Insurance filialas | R6: Lamantinas | S6: Lietuvos draudimas | T6: PZU Lietuva gyvybės draudimas | U6: SEB Life and Pension Baltic filialas | V6: Swedbank Life Insurance filialas | W6: Swedbank P&C Insurance filialas | X6: Vereinigte Hagelversicherung filialas VH Lietuva | Y6: All
A7: =IFERROR(VLOOKUP(C7,'LT-EN'!$A:$B,2,FALSE)," ") -> ALL | B7: 0 | C7: Visos | D7: 11580645 | E7: 2850195.7 | F7: 0 | G7: 0 | H7: 0 | I7: 0 | J7: 0 | K7: 6379501.1 | L7: 0 | M7: 0 | N7: 3057193.2 | O7: 0 | P7: 0 | Q7: 0 | R7: 0 | S7: 0 | T7: 2891860 | U7: 11253791 | V7: 4716476 | W7: 0 | X7: 0 | Y7: 42729662
A8: =IFERROR(VLOOKUP(C8,'LT-EN'!$A:$B,2,FALSE)," ") -> LIFE ASSURANCE | B8: 49 | C8: GYVYBĖS DRAUDIMAS | D8: 11580645 | E8: 2850195.7 | F8: 0 | G8: 0 | H8: 0 | I8: 0 | J8: 0 | K8: 6379501.1 | L8: 0 | M8: 0 | N8: 3057193.2 | O8: 0 | P8: 0 | Q8: 0 | R8: 0 | S8: 0 | T8: 2891860 | U8: 11253791 | V8: 4716476 | W8: 0 | X8: 0 | Y8: 42729662
A9: =IFERROR(VLOOKUP(C9,'LT-EN'!$A:$B,2,FALSE)," ") -> 1. Health insurance | B9: 50 | C9: 1. Sveikatos draudimas | K9: 104039.86 | N9: 1159072.9 | O9: 0 | Y9: 1263112.7
A10: =IFERROR(VLOOKUP(C10,'LT-EN'!$A:$B,2,FALSE)," ") -> 2. Insurance with profit participation | B10: 51 | C10: 2. Draudimas su teise dalytis pelną | D10: 0 | E10: 0 | F10: 0 | G10: 0 | H10: 0 | I10: 0 | J10: 0 | K10: 37052.22 | L10: 0 | M10: 0 | N10: 0 | O10: 0 | P10: 0 | Q10: 0 | R10: 0 | S10: 0 | T10: 0 | U10: 0 | V10: 0 | W10: 0 | X10: 0 | Y10: 37052.22
A11: =IFERROR(VLOOKUP(C11,'LT-EN'!$A:$B,2,FALSE)," ") -> 2.1. Insurance in case of survival | B11: 52 | C11: 2.1. Draudimas išgyvenimo atveju | E11: 0 | K11: 37052.22 | N11: 0 | O11: 0 | T11: 0 | V11: 0 | Y11: 37052.22
A12: =IFERROR(VLOOKUP(C12,'LT-EN'!$A:$B,2,FALSE)," ") -> 2.2. Annuities | B12: 53 | C12: 2.2. Anuitetai | E12: 0 | K12: 0 | N12: 0 | O12: 0 | Q12: 0 | V12: 0 | Y12: 0
A13: =IFERROR(VLOOKUP(C13,'LT-EN'!$A:$B,2,FALSE)," ") -> 2.3.Insurance in case of death | B13: 54 | C13: 2.3. Draudimas mirties atveju | K13: 0 | O13: 0 | V13: 0 | Y13: 0
A14: =IFERROR(VLOOKUP(C14,'LT-EN'!$A:$B,2,FALSE)," ") -> 2.4. Other insurance with profit participation | B14: 55 | C14: 2.4. Kitas draudimas, suteikiantis teisę gauti pelno dalį | K14: 0 | O14: 0 | V14: 0 | Y14: 0
A15: =IFERROR(VLOOKUP(C15,'LT-EN'!$A:$B,2,FALSE)," ") -> 3. Index-linked and unit-linked insurance | B15: 56 | C15: 3. Su indeksu ir investiciniais vienetais susijęs draudimas | D15: 10686015 | E15: 2429220 | F15: 0 | G15: 0 | H15: 0 | I15: 0 | J15: 0 | K15: 4487602 | L15: 0 | M15: 0 | N15: 1207592 | O15: 0 | P15: 0 | Q15: 0 | R15: 0 | S15: 0 | T15: 2202063 | U15: 10077844 | V15: 2404263 | W15: 0 | X15: 0 | Y15: 33494599
A16: =IFERROR(VLOOKUP(C16,'LT-EN'!$A:$B,2,FALSE)," ") -> 3.1. Index-linked and unit-linked insurance, when the insurance risk is significant | B16: 57 | C16: 3.1. Su indeksu ir investiciniais vienetais susijęs draudimas, kai draudimo rizika yra reikšminga | D16: 10686015 | E16: 1768920 | K16: 0 | N16: 792812 | O16: 0 | T16: 2042387 | U16: 0 | V16: 2194023 | Y16: 17484157
A17: =IFERROR(VLOOKUP(C17,'LT-EN'!$A:$B,2,FALSE)," ") -> 3.2. Index-linked and unit-linked insurance, when the insurance risk is insignificant | B17: 58 | C17: 3.2. Su indeksu ir investiciniais vienetais susijęs draudimas, kai draudimo rizika yra nereikšminga | E17: 660300 | K17: 4487602 | N17: 414780 | O17: 0 | T17: 159676 | U17: 10077844 | V17: 210240 | Y17: 16010442
